BEGIN:VCALENDAR
VERSION:2.0
PRODID:-// - ECPv6.15.17.1//NONSGML v1.0//EN
CALSCALE:GREGORIAN
METHOD:PUBLISH
X-ORIGINAL-URL:https://bandamusicaldecampo.com
X-WR-CALDESC:Eventos para 
REFRESH-INTERVAL;VALUE=DURATION:PT1H
X-Robots-Tag:noindex
X-PUBLISHED-TTL:PT1H
BEGIN:VTIMEZONE
TZID:UTC
BEGIN:STANDARD
TZOFFSETFROM:+0000
TZOFFSETTO:+0000
TZNAME:UTC
DTSTART:20250101T000000
END:STANDARD
END:VTIMEZONE
BEGIN:VEVENT
DTSTART;TZID=UTC:20260425T083000
DTEND;TZID=UTC:20260425T120000
DTSTAMP:20260423T122926
CREATED:20260320T084748Z
LAST-MODIFIED:20260320T085004Z
UID:649-1777105800-1777118400@bandamusicaldecampo.com
SUMMARY:Cerimónia do 25 de abril - Campo
DESCRIPTION:
URL:https://bandamusicaldecampo.com/event/cerimonia-do-25-de-abril-campo/
END:VEVENT
BEGIN:VEVENT
DTSTART;TZID=UTC:20260524T083000
DTEND;TZID=UTC:20260524T200000
DTSTAMP:20260423T122926
CREATED:20260320T084856Z
LAST-MODIFIED:20260320T084856Z
UID:651-1779611400-1779652800@bandamusicaldecampo.com
SUMMARY:N. Sra. do Bom Sucesso - Vandoma
DESCRIPTION:
URL:https://bandamusicaldecampo.com/event/n-sra-do-bom-sucesso-vandoma/
END:VEVENT
BEGIN:VEVENT
DTSTART;TZID=UTC:20260531T080000
DTEND;TZID=UTC:20260531T200000
DTSTAMP:20260423T122926
CREATED:20260320T085054Z
LAST-MODIFIED:20260320T085054Z
UID:653-1780214400-1780257600@bandamusicaldecampo.com
SUMMARY:N. Sra. da Encarnação - Campo
DESCRIPTION:
URL:https://bandamusicaldecampo.com/event/n-sra-da-encarnacao-campo/
END:VEVENT
BEGIN:VEVENT
DTSTART;TZID=UTC:20260606T140000
DTEND;TZID=UTC:20260606T200000
DTSTAMP:20260423T122926
CREATED:20260320T085140Z
LAST-MODIFIED:20260320T085140Z
UID:655-1780754400-1780776000@bandamusicaldecampo.com
SUMMARY:Festa da Regueifa - Valongo
DESCRIPTION:
URL:https://bandamusicaldecampo.com/event/festa-da-regueifa-valongo/
END:VEVENT
BEGIN:VEVENT
DTSTART;TZID=UTC:20260607T213000
DTEND;TZID=UTC:20260607T233000
DTSTAMP:20260423T122926
CREATED:20260320T085220Z
LAST-MODIFIED:20260320T085220Z
UID:657-1780867800-1780875000@bandamusicaldecampo.com
SUMMARY:Concerto Festa da Regueifa - Valongo
DESCRIPTION:
URL:https://bandamusicaldecampo.com/event/concerto-festa-da-regueifa-valongo/
END:VEVENT
BEGIN:VEVENT
DTSTART;TZID=UTC:20260614T140000
DTEND;TZID=UTC:20260614T200000
DTSTAMP:20260423T122926
CREATED:20260320T085304Z
LAST-MODIFIED:20260320T085304Z
UID:659-1781445600-1781467200@bandamusicaldecampo.com
SUMMARY:Santo André - Arco de Baúlhe
DESCRIPTION:
URL:https://bandamusicaldecampo.com/event/santo-andre-arco-de-baulhe/
END:VEVENT
BEGIN:VEVENT
DTSTART;TZID=UTC:20260621T140000
DTEND;TZID=UTC:20260621T200000
DTSTAMP:20260423T122926
CREATED:20260320T085425Z
LAST-MODIFIED:20260320T085425Z
UID:661-1782050400-1782072000@bandamusicaldecampo.com
SUMMARY:S. Sebastião - Gandra
DESCRIPTION:
URL:https://bandamusicaldecampo.com/event/s-sebastiao-gandra/
END:VEVENT
BEGIN:VEVENT
DTSTART;TZID=UTC:20260624T090000
DTEND;TZID=UTC:20260624T220000
DTSTAMP:20260423T122926
CREATED:20260320T085525Z
LAST-MODIFIED:20260320T090015Z
UID:663-1782291600-1782338400@bandamusicaldecampo.com
SUMMARY:S. João - Sobrado
DESCRIPTION:
URL:https://bandamusicaldecampo.com/event/s-joao-sobrado/
END:VEVENT
BEGIN:VEVENT
DTSTART;TZID=UTC:20260627T203000
DTEND;TZID=UTC:20260627T235900
DTSTAMP:20260423T122926
CREATED:20260320T085626Z
LAST-MODIFIED:20260320T085626Z
UID:665-1782592200-1782604740@bandamusicaldecampo.com
SUMMARY:Marchas de S. João - Valongo
DESCRIPTION:
URL:https://bandamusicaldecampo.com/event/marchas-de-s-joao-valongo-3/
END:VEVENT
BEGIN:VEVENT
DTSTART;TZID=UTC:20260717T210000
DTEND;TZID=UTC:20260717T233000
DTSTAMP:20260423T122926
CREATED:20260320T090256Z
LAST-MODIFIED:20260320T090256Z
UID:668-1784322000-1784331000@bandamusicaldecampo.com
SUMMARY:Concerto da Semana das Coletividades - Campo
DESCRIPTION:
URL:https://bandamusicaldecampo.com/event/concerto-da-semana-das-coletividades-campo/
END:VEVENT
BEGIN:VEVENT
DTSTART;TZID=UTC:20260726T140000
DTEND;TZID=UTC:20260726T200000
DTSTAMP:20260423T122926
CREATED:20260320T090345Z
LAST-MODIFIED:20260320T090345Z
UID:670-1785074400-1785096000@bandamusicaldecampo.com
SUMMARY:Sra. do Socorro - Paredes de Viadores
DESCRIPTION:
URL:https://bandamusicaldecampo.com/event/sra-do-socorro-paredes-de-viadores/
END:VEVENT
BEGIN:VEVENT
DTSTART;TZID=UTC:20260802T080000
DTEND;TZID=UTC:20260802T200000
DTSTAMP:20260423T122926
CREATED:20260320T090432Z
LAST-MODIFIED:20260320T090432Z
UID:672-1785657600-1785700800@bandamusicaldecampo.com
SUMMARY:Festas da Cidade de Gandra
DESCRIPTION:
URL:https://bandamusicaldecampo.com/event/festas-da-cidade-de-gandra/
END:VEVENT
BEGIN:VEVENT
DTSTART;TZID=UTC:20260815T083000
DTEND;TZID=UTC:20260815T200000
DTSTAMP:20260423T122926
CREATED:20260320T090702Z
LAST-MODIFIED:20260320T090702Z
UID:674-1786782600-1786824000@bandamusicaldecampo.com
SUMMARY:Santa Maria de Eja - Penafiel
DESCRIPTION:
URL:https://bandamusicaldecampo.com/event/santa-maria-de-eja-penafiel/
END:VEVENT
BEGIN:VEVENT
DTSTART;TZID=UTC:20260816T083000
DTEND;TZID=UTC:20260816T200000
DTSTAMP:20260423T122926
CREATED:20260320T090752Z
LAST-MODIFIED:20260320T090752Z
UID:676-1786869000-1786910400@bandamusicaldecampo.com
SUMMARY:Santa Maria de Freigil - Resende
DESCRIPTION:
URL:https://bandamusicaldecampo.com/event/santa-maria-de-freigil-resende/
END:VEVENT
BEGIN:VEVENT
DTSTART;TZID=UTC:20260823T080000
DTEND;TZID=UTC:20260824T020000
DTSTAMP:20260423T122926
CREATED:20260320T090933Z
LAST-MODIFIED:20260320T090933Z
UID:678-1787472000-1787536800@bandamusicaldecampo.com
SUMMARY:Sagrado Coração de Jesus - Vila Pouca de Aguiar
DESCRIPTION:
URL:https://bandamusicaldecampo.com/event/sagrado-coracao-de-jesus-vila-pouca-de-aguiar/
END:VEVENT
BEGIN:VEVENT
DTSTART;TZID=UTC:20260906T140000
DTEND;TZID=UTC:20260906T200000
DTSTAMP:20260423T122926
CREATED:20260320T091042Z
LAST-MODIFIED:20260320T091042Z
UID:680-1788703200-1788724800@bandamusicaldecampo.com
SUMMARY:Sra. do Pinhal - Sobreira
DESCRIPTION:
URL:https://bandamusicaldecampo.com/event/sra-do-pinhal-sobreira/
END:VEVENT
BEGIN:VEVENT
DTSTART;TZID=UTC:20260912T120000
DTEND;TZID=UTC:20260912T235900
DTSTAMP:20260423T122926
CREATED:20260320T091159Z
LAST-MODIFIED:20260320T091159Z
UID:682-1789214400-1789257540@bandamusicaldecampo.com
SUMMARY:Sra. da Bonança - Vila Praia de Âncora
DESCRIPTION:
URL:https://bandamusicaldecampo.com/event/sra-da-bonanca-vila-praia-de-ancora/
END:VEVENT
BEGIN:VEVENT
DTSTART;TZID=UTC:20260913T080000
DTEND;TZID=UTC:20260913T200000
DTSTAMP:20260423T122926
CREATED:20260320T091241Z
LAST-MODIFIED:20260320T091302Z
UID:684-1789286400-1789329600@bandamusicaldecampo.com
SUMMARY:Sra. das Necessidades - Sobrado
DESCRIPTION:
URL:https://bandamusicaldecampo.com/event/sra-das-necessidades-sobrado/
END:VEVENT
BEGIN:VEVENT
DTSTART;TZID=UTC:20261129T080000
DTEND;TZID=UTC:20261129T200000
DTSTAMP:20260423T122926
CREATED:20260320T091407Z
LAST-MODIFIED:20260320T091407Z
UID:686-1795939200-1795982400@bandamusicaldecampo.com
SUMMARY:Santo André - Sobrado
DESCRIPTION:
URL:https://bandamusicaldecampo.com/event/santo-andre-sobrado-2/
END:VEVENT
END:VCALENDAR